BEGIN:VCALENDAR
VERSION:2.0
PRODID:-//Yellowstone County Prevention - ECPv6.2.2//NONSGML v1.0//EN
CALSCALE:GREGORIAN
METHOD:PUBLISH
X-WR-CALNAME:Yellowstone County Prevention
X-ORIGINAL-URL:http://yellowstoneprevention.com
X-WR-CALDESC:Events for Yellowstone County Prevention
REFRESH-INTERVAL;VALUE=DURATION:PT1H
X-Robots-Tag:noindex
X-PUBLISHED-TTL:PT1H
BEGIN:VTIMEZONE
TZID:UTC
BEGIN:STANDARD
TZOFFSETFROM:+0000
TZOFFSETTO:+0000
TZNAME:UTC
DTSTART:20170101T000000
END:STANDARD
END:VTIMEZONE
BEGIN:VEVENT
DTSTART;TZID=UTC:20170429T080000
DTEND;TZID=UTC:20170429T170000
DTSTAMP:20260423T193737
CREATED:20170403T172351Z
LAST-MODIFIED:20170403T172351Z
UID:161-1493452800-1493485200@yellowstoneprevention.com
SUMMARY:poor SL Event
DESCRIPTION:
URL:http://yellowstoneprevention.com/event/poor-sl-event-2/
CATEGORIES:Upcoming Events
END:VEVENT
END:VCALENDAR