BEGIN:VCALENDAR
VERSION:2.0
PRODID:-//Yellowstone County Prevention - ECPv6.2.2//NONSGML v1.0//EN
CALSCALE:GREGORIAN
METHOD:PUBLISH
X-ORIGINAL-URL:http://yellowstoneprevention.com
X-WR-CALDESC:Events for Yellowstone County Prevention
REFRESH-INTERVAL;VALUE=DURATION:PT1H
X-Robots-Tag:noindex
X-PUBLISHED-TTL:PT1H
BEGIN:VTIMEZONE
TZID:UTC
BEGIN:STANDARD
TZOFFSETFROM:+0000
TZOFFSETTO:+0000
TZNAME:UTC
DTSTART:20200101T000000
END:STANDARD
END:VTIMEZONE
BEGIN:VEVENT
DTSTART;TZID=UTC:20200922T130000
DTEND;TZID=UTC:20200922T160000
DTSTAMP:20260421T013113
CREATED:20200921T152158Z
LAST-MODIFIED:20200921T152158Z
UID:543-1600779600-1600790400@yellowstoneprevention.com
SUMMARY:Marijuana in Montana - Ben Cort
DESCRIPTION:
URL:http://yellowstoneprevention.com/event/marijuana-in-montana-ben-cort/
LOCATION:Youtube
CATEGORIES:Upcoming Events
END:VEVENT
END:VCALENDAR