BEGIN:VCALENDAR
VERSION:2.0
PRODID:-//Yellowstone County Prevention - ECPv6.2.2//NONSGML v1.0//EN
CALSCALE:GREGORIAN
METHOD:PUBLISH
X-ORIGINAL-URL:http://yellowstoneprevention.com
X-WR-CALDESC:Events for Yellowstone County Prevention
REFRESH-INTERVAL;VALUE=DURATION:PT1H
X-Robots-Tag:noindex
X-PUBLISHED-TTL:PT1H
BEGIN:VTIMEZONE
TZID:UTC
BEGIN:STANDARD
TZOFFSETFROM:+0000
TZOFFSETTO:+0000
TZNAME:UTC
DTSTART:20170101T000000
END:STANDARD
END:VTIMEZONE
BEGIN:VEVENT
DTSTART;TZID=UTC:20170509T080000
DTEND;TZID=UTC:20170509T170000
DTSTAMP:20260423T113428
CREATED:20170403T172407Z
LAST-MODIFIED:20170403T172407Z
UID:162-1494316800-1494349200@yellowstoneprevention.com
SUMMARY:Cyclon victim
DESCRIPTION:
URL:http://yellowstoneprevention.com/event/cyclon-victim/
CATEGORIES:Upcoming Events
END:VEVENT
BEGIN:VEVENT
DTSTART;TZID=UTC:20170519T080000
DTEND;TZID=UTC:20170519T170000
DTSTAMP:20260423T113428
CREATED:20170403T172422Z
LAST-MODIFIED:20170403T172422Z
UID:163-1495180800-1495213200@yellowstoneprevention.com
SUMMARY:Village fund
DESCRIPTION:
URL:http://yellowstoneprevention.com/event/village-fund/
CATEGORIES:Upcoming Events
END:VEVENT
END:VCALENDAR